BEGIN:VCALENDAR
VERSION:2.0
PRODID:-//A Bosselesch - ECPv5.0.1//NONSGML v1.0//EN
CALSCALE:GREGORIAN
METHOD:PUBLISH
X-WR-CALNAME:A Bosselesch
X-ORIGINAL-URL:https://www.abosselesch.lu
X-WR-CALDESC:Évènements pour A Bosselesch
BEGIN:VTIMEZONE
TZID:Europe/Paris
BEGIN:DAYLIGHT
TZOFFSETFROM:+0100
TZOFFSETTO:+0200
TZNAME:CEST
DTSTART:20190331T010000
END:DAYLIGHT
BEGIN:STANDARD
TZOFFSETFROM:+0200
TZOFFSETTO:+0100
TZNAME:CET
DTSTART:20191027T010000
END:STANDARD
END:VTIMEZONE
BEGIN:VEVENT
DTSTART;TZID=Europe/Paris:20191221T150000
DTEND;TZID=Europe/Paris:20191221T210000
DTSTAMP:20200426T102654
CREATED:20191219T191320Z
LAST-MODIFIED:20191219T191320Z
UID:525-1576940400-1576962000@www.abosselesch.lu
SUMMARY:Chrëschtconcert
DESCRIPTION:Nach dem großen Interesse am Chrëschtconcert im vergangenen Jahr freuen wir uns\, auch dieses Jahr wieder mit Ihnen zu Weihnachten in unsere schöne Philharmonie zu gehen. Unter der Leitung von Pierre Cao musizieren das Orchestre Philharmonique du Luxembourg und die Pueri Cantores du Conservatoire de la Ville de Luxembourg. Auf dem Programm steht von Georg Friedrich Händel: «Dixit Dominus». \n\nLe «Chrëschtconcert» de l’année passée était un grand succès pour nous\, il n’est que naturel que nous irons répéter cette expérience en décembre prochain. Nous nous rendrons donc une fois de plus à notre très belle Philharmonie pour le »Chrëschtconcert » 2019. Sous la direction de Pierre Cao l’Orchestre Philharmonique du Luxembourg et les Pueri Cantores du Conservatoire de la Ville de Luxembourg présentent l’oeuvre suivante : Georg Friedrich Händel: Dixit Dominus. \n
URL:https://www.abosselesch.lu/event/chreschtconcert/
LOCATION:A Bosselesch\, 1\, rue de Limpach\, Mondercange\, 3932\, Luxembourg
ATTACH;FMTTYPE=image/jpeg:https://www.abosselesch.lu/wp-content/uploads/2019/12/orchestra.jpg
END:VEVENT
END:VCALENDAR