BEGIN:VCALENDAR
VERSION:2.0
PRODID:-//A Bosselesch - ECPv5.0.1//NONSGML v1.0//EN
CALSCALE:GREGORIAN
METHOD:PUBLISH
X-WR-CALNAME:A Bosselesch
X-ORIGINAL-URL:https://www.abosselesch.lu
X-WR-CALDESC:Évènements pour A Bosselesch
BEGIN:VTIMEZONE
TZID:Europe/Paris
BEGIN:DAYLIGHT
TZOFFSETFROM:+0100
TZOFFSETTO:+0200
TZNAME:CEST
DTSTART:20190331T010000
END:DAYLIGHT
BEGIN:STANDARD
TZOFFSETFROM:+0200
TZOFFSETTO:+0100
TZNAME:CET
DTSTART:20191027T010000
END:STANDARD
END:VTIMEZONE
BEGIN:VEVENT
DTSTART;TZID=Europe/Paris:20191107T160000
DTEND;TZID=Europe/Paris:20191107T180000
DTSTAMP:20200426T103831
CREATED:20191005T102259Z
LAST-MODIFIED:20191025T165826Z
UID:58-1573142400-1573149600@www.abosselesch.lu
SUMMARY:Die Biene und ihr Honig | L'abeille et son miel
DESCRIPTION:\n\n\nHerr Pol Goedert berichtet über seine Leidenschaft – die Imkerei. \nBiene und Honig gehören zusammen wie Tag und Nacht. An diesem Nachmittag bekommen Sie nicht nur Einblick in seinen Alltag als Imker\, sondern erfahren auch\, welch’ heilende Kraft im Honig zu finden ist – nicht nur innerlich\, sondern auch äußerlich. \nHerr Goedert lässt uns seinen Honig schmecken und die Textur der ‘Crème’\, die mit Extrakten aus seinem Honig entstehen\, dürfen Sie gern auf ihrer Haut testen. \n\n\n\nMr. Pol Goedert nous racontera toute sa passion sur l’apiculture. L’abeille et le miel – difficile de parler de l’un sans penser à l’autre. \nL’après-midi de la journée indiquée vous apprendrez tout sur la vie quotidienne d’un apiculteur ainsi que sur les qualités thérapeutiques du miel\, ses effets internes et externes. \nVous aurez l’occasion de déguster le miel et la texture des crèmes\, qui sont à base d’extraits de miel et que vous pouvez appliquer sur votre peau. \n
URL:https://www.abosselesch.lu/event/die-biene-und-ihr-honig/
LOCATION:A Bosselesch\, 1\, rue de Limpach\, Mondercange\, 3932\, Luxembourg
ATTACH;FMTTYPE=image/jpeg:https://www.abosselesch.lu/wp-content/uploads/2019/10/honey.jpg
END:VEVENT
END:VCALENDAR