BEGIN:VCALENDAR
VERSION:2.0
PRODID:-//A Bosselesch - ECPv5.0.1//NONSGML v1.0//EN
CALSCALE:GREGORIAN
METHOD:PUBLISH
X-WR-CALNAME:A Bosselesch
X-ORIGINAL-URL:https://www.abosselesch.lu
X-WR-CALDESC:Évènements pour A Bosselesch
BEGIN:VTIMEZONE
TZID:Europe/Paris
BEGIN:DAYLIGHT
TZOFFSETFROM:+0100
TZOFFSETTO:+0200
TZNAME:CEST
DTSTART:20190331T010000
END:DAYLIGHT
BEGIN:STANDARD
TZOFFSETFROM:+0200
TZOFFSETTO:+0100
TZNAME:CET
DTSTART:20191027T010000
END:STANDARD
END:VTIMEZONE
BEGIN:VEVENT
DTSTART;TZID=Europe/Paris:20191122T093000
DTEND;TZID=Europe/Paris:20191122T160000
DTSTAMP:20200426T103914
CREATED:20191025T164626Z
LAST-MODIFIED:20191025T165635Z
UID:399-1574415000-1574438400@www.abosselesch.lu
SUMMARY:Workshop in Acrylmalerei | Atelier en peinture acrylique
DESCRIPTION:Sie arbeiten mit sehr verschiedenen Materialien und Farben\, so dass jeder seine eigenen Ideen einbringen kann. Der Kurs richtet sich an Anfänger und Fortgeschrittene. \n\nVous travaillez avec de multiples matériaux et couleurs\, où chacun peut réaliser ses propres idées. \nLe cours s’adresse tant bien aux débutants qu’aux experimentés. \n
URL:https://www.abosselesch.lu/event/workshop-in-acrylmalerei-atelier-en-peinture-acrylique/
LOCATION:A Bosselesch\, 1\, rue de Limpach\, Mondercange\, 3932\, Luxembourg
ATTACH;FMTTYPE=image/jpeg:https://www.abosselesch.lu/wp-content/uploads/2019/10/acryl.jpg
END:VEVENT
END:VCALENDAR